Package: LRBaseDbi Version: 2.20.0 Command: /home/biocbuild/bbs-3.22-bioc/R/bin/R CMD INSTALL LRBaseDbi StartedAt: 2025-11-11 16:03:21 -0500 (Tue, 11 Nov 2025) EndedAt: 2025-11-11 16:03:33 -0500 (Tue, 11 Nov 2025) EllapsedTime: 12.4 seconds RetCode: 0 Status: OK