Package: LRBaseDbi Version: 2.20.0 Command: /home/biocbuild/bbs-3.22-bioc/R/bin/R CMD check --install=check:LRBaseDbi.install-out.txt --library=/home/biocbuild/bbs-3.22-bioc/R/site-library --timings LRBaseDbi_2.20.0.tar.gz StartedAt: 2025-11-12 01:03:14 -0500 (Wed, 12 Nov 2025) EndedAt: 2025-11-12 01:05:02 -0500 (Wed, 12 Nov 2025) EllapsedTime: 108.2 seconds RetCode: 0 Status: OK CheckDir: LRBaseDbi.Rcheck Warnings: 0