Package: LRBaseDbi Version: 2.20.0 Command: /home/biocbuild/bbs-3.22-bioc/R/bin/R CMD build --keep-empty-dirs --no-resave-data --md5 LRBaseDbi StartedAt: 2025-11-11 18:29:42 -0500 (Tue, 11 Nov 2025) EndedAt: 2025-11-11 18:30:06 -0500 (Tue, 11 Nov 2025) EllapsedTime: 24.0 seconds RetCode: 0 Status: OK PackageFile: LRBaseDbi_2.20.0.tar.gz PackageFileSize: 146.4 KiB