Package: LRBaseDbi Version: 2.18.1 Command: /Library/Frameworks/R.framework/Resources/bin/R CMD INSTALL LRBaseDbi StartedAt: 2025-10-13 16:46:05 -0400 (Mon, 13 Oct 2025) EndedAt: 2025-10-13 16:46:38 -0400 (Mon, 13 Oct 2025) EllapsedTime: 32.8 seconds RetCode: 0 Status: OK