Package: LRBaseDbi Version: 2.18.1 Command: /Library/Frameworks/R.framework/Resources/bin/R CMD build --keep-empty-dirs --no-resave-data LRBaseDbi StartedAt: 2025-10-13 20:08:25 -0400 (Mon, 13 Oct 2025) EndedAt: 2025-10-13 20:09:20 -0400 (Mon, 13 Oct 2025) EllapsedTime: 54.9 seconds RetCode: 0 Status: OK PackageFile: LRBaseDbi_2.18.1.tar.gz PackageFileSize: 145.8 KiB