Package: LRBaseDbi Version: 2.18.1 Command: rm -rf LRBaseDbi.buildbin-libdir && mkdir LRBaseDbi.buildbin-libdir && /Users/biocbuild/BBS/utils/build-universal.sh LRBaseDbi_2.18.1.tar.gz /Library/Frameworks/R.framework/Resources/bin/R LRBaseDbi.buildbin-libdir StartedAt: 2025-10-14 13:53:34 -0400 (Tue, 14 Oct 2025) EndedAt: 2025-10-14 13:54:23 -0400 (Tue, 14 Oct 2025) EllapsedTime: 49.1 seconds RetCode: 0 Status: OK PackageFile: LRBaseDbi_2.18.1.tgz PackageFileSize: 558.6 KiB