Package: LPE Version: 1.84.0 Command: /home/biocbuild/bbs-3.22-bioc/R/bin/R CMD INSTALL LPE StartedAt: 2025-11-11 15:07:26 -0500 (Tue, 11 Nov 2025) EndedAt: 2025-11-11 15:07:42 -0500 (Tue, 11 Nov 2025) EllapsedTime: 16.8 seconds RetCode: 0 Status: OK