Package: LPE Version: 1.84.0 Command: /home/biocbuild/bbs-3.22-bioc/R/bin/R CMD build --keep-empty-dirs --no-resave-data --md5 LPE StartedAt: 2025-11-11 18:29:38 -0500 (Tue, 11 Nov 2025) EndedAt: 2025-11-11 18:29:45 -0500 (Tue, 11 Nov 2025) EllapsedTime: 7.0 seconds RetCode: 0 Status: OK PackageFile: LPE_1.84.0.tar.gz PackageFileSize: 437.9 KiB