Package: LOLA Version: 1.40.0 Command: /home/biocbuild/bbs-3.22-bioc/R/bin/R CMD build --keep-empty-dirs --no-resave-data --md5 LOLA StartedAt: 2025-11-11 18:29:27 -0500 (Tue, 11 Nov 2025) EndedAt: 2025-11-11 18:29:45 -0500 (Tue, 11 Nov 2025) EllapsedTime: 18.0 seconds RetCode: 0 Status: OK PackageFile: LOLA_1.40.0.tar.gz PackageFileSize: 1.111 MiB