Package: LOLA Version: 1.38.0 Command: /home/biocbuild/R/R/bin/R CMD INSTALL LOLA StartedAt: 2025-10-13 20:27:29 -0000 (Mon, 13 Oct 2025) EndedAt: 2025-10-13 20:27:44 -0000 (Mon, 13 Oct 2025) EllapsedTime: 15.4 seconds RetCode: 0 Status: OK