Package: LOLA Version: 1.40.0 Command: /Library/Frameworks/R.framework/Resources/bin/R CMD INSTALL LOLA StartedAt: 2025-11-10 15:10:31 -0500 (Mon, 10 Nov 2025) EndedAt: 2025-11-10 15:10:35 -0500 (Mon, 10 Nov 2025) EllapsedTime: 4.5 seconds RetCode: 0 Status: OK