Package: LOLA Version: 1.40.0 Command: /Library/Frameworks/R.framework/Resources/bin/R CMD build --keep-empty-dirs --no-resave-data LOLA StartedAt: 2025-11-10 16:51:41 -0500 (Mon, 10 Nov 2025) EndedAt: 2025-11-10 16:51:49 -0500 (Mon, 10 Nov 2025) EllapsedTime: 8.1 seconds RetCode: 0 Status: OK PackageFile: LOLA_1.40.0.tar.gz PackageFileSize: 1.11 MiB