Package: LOLA Version: 1.40.0 Command: rm -rf LOLA.buildbin-libdir && mkdir LOLA.buildbin-libdir && /Users/biocbuild/BBS/utils/build-universal.sh LOLA_1.40.0.tar.gz /Library/Frameworks/R.framework/Resources/bin/R LOLA.buildbin-libdir StartedAt: 2025-11-10 23:25:09 -0500 (Mon, 10 Nov 2025) EndedAt: 2025-11-10 23:25:15 -0500 (Mon, 10 Nov 2025) EllapsedTime: 5.2 seconds RetCode: 0 Status: OK PackageFile: LOLA_1.40.0.tgz PackageFileSize: 1.188 MiB