Package: LOBSTAHS Version: 1.36.0 Command: /home/biocbuild/bbs-3.22-bioc/R/bin/R CMD check --install=check:LOBSTAHS.install-out.txt --library=/home/biocbuild/bbs-3.22-bioc/R/site-library --timings LOBSTAHS_1.36.0.tar.gz StartedAt: 2025-11-15 01:09:04 -0500 (Sat, 15 Nov 2025) EndedAt: 2025-11-15 01:15:32 -0500 (Sat, 15 Nov 2025) EllapsedTime: 387.5 seconds RetCode: 0 Status: OK CheckDir: LOBSTAHS.Rcheck Warnings: 0