Package: LOBSTAHS Version: 1.36.0 Command: /Library/Frameworks/R.framework/Resources/bin/R CMD INSTALL LOBSTAHS StartedAt: 2025-11-03 15:38:49 -0500 (Mon, 03 Nov 2025) EndedAt: 2025-11-03 15:39:53 -0500 (Mon, 03 Nov 2025) EllapsedTime: 64.3 seconds RetCode: 0 Status: OK