Package: LOBSTAHS Version: 1.36.0 Command: /Library/Frameworks/R.framework/Resources/bin/R CMD build --keep-empty-dirs --no-resave-data LOBSTAHS StartedAt: 2025-11-03 17:34:01 -0500 (Mon, 03 Nov 2025) EndedAt: 2025-11-03 17:35:20 -0500 (Mon, 03 Nov 2025) EllapsedTime: 78.9 seconds RetCode: 0 Status: OK PackageFile: LOBSTAHS_1.36.0.tar.gz PackageFileSize: 2.902 MiB