Package: LEA Version: 3.22.0 Command: /home/biocbuild/bbs-3.22-bioc/R/bin/R CMD INSTALL LEA StartedAt: 2025-11-11 15:07:12 -0500 (Tue, 11 Nov 2025) EndedAt: 2025-11-11 15:07:26 -0500 (Tue, 11 Nov 2025) EllapsedTime: 14.2 seconds RetCode: 0 Status: OK