Package: LEA Version: 3.22.0 Command: /home/biocbuild/bbs-3.22-bioc/R/bin/R CMD check --install=check:LEA.install-out.txt --library=/home/biocbuild/bbs-3.22-bioc/R/site-library --timings LEA_3.22.0.tar.gz StartedAt: 2025-11-14 01:01:36 -0500 (Fri, 14 Nov 2025) EndedAt: 2025-11-14 01:04:53 -0500 (Fri, 14 Nov 2025) EllapsedTime: 197.2 seconds RetCode: 0 Status: OK CheckDir: LEA.Rcheck Warnings: 0