Package: LEA Version: 3.22.0 Command: /home/biocbuild/bbs-3.22-bioc/R/bin/R CMD build --keep-empty-dirs --no-resave-data --md5 LEA StartedAt: 2025-11-11 18:27:11 -0500 (Tue, 11 Nov 2025) EndedAt: 2025-11-11 18:28:42 -0500 (Tue, 11 Nov 2025) EllapsedTime: 91.1 seconds RetCode: 0 Status: OK PackageFile: LEA_3.22.0.tar.gz PackageFileSize: 748.5 KiB