Package: LEA Version: 3.20.0 Command: /home/biocbuild/R/R/bin/R CMD INSTALL LEA StartedAt: 2025-09-29 20:14:23 -0000 (Mon, 29 Sep 2025) EndedAt: 2025-09-29 20:15:06 -0000 (Mon, 29 Sep 2025) EllapsedTime: 42.7 seconds RetCode: 0 Status: OK