Package: LBE Version: 1.78.0 Command: /home/biocbuild/bbs-3.22-bioc/R/bin/R CMD INSTALL LBE StartedAt: 2025-11-11 15:07:02 -0500 (Tue, 11 Nov 2025) EndedAt: 2025-11-11 15:07:23 -0500 (Tue, 11 Nov 2025) EllapsedTime: 20.7 seconds RetCode: 0 Status: OK