Package: LBE Version: 1.78.0 Command: /Library/Frameworks/R.framework/Resources/bin/R CMD INSTALL LBE StartedAt: 2025-11-10 15:01:44 -0500 (Mon, 10 Nov 2025) EndedAt: 2025-11-10 15:01:51 -0500 (Mon, 10 Nov 2025) EllapsedTime: 6.5 seconds RetCode: 0 Status: OK