Package: LBE Version: 1.78.0 Command: rm -rf LBE.buildbin-libdir && mkdir LBE.buildbin-libdir && /Users/biocbuild/BBS/utils/build-universal.sh LBE_1.78.0.tar.gz /Library/Frameworks/R.framework/Resources/bin/R LBE.buildbin-libdir StartedAt: 2025-11-10 23:24:50 -0500 (Mon, 10 Nov 2025) EndedAt: 2025-11-10 23:24:52 -0500 (Mon, 10 Nov 2025) EllapsedTime: 2.0 seconds RetCode: 0 Status: OK PackageFile: LBE_1.78.0.tgz PackageFileSize: 813 KiB