Package: LACE Version: 2.14.0 Command: /home/biocbuild/bbs-3.22-bioc/R/bin/R CMD check --install=check:LACE.install-out.txt --library=/home/biocbuild/bbs-3.22-bioc/R/site-library --timings LACE_2.14.0.tar.gz StartedAt: 2025-11-15 01:02:29 -0500 (Sat, 15 Nov 2025) EndedAt: 2025-11-15 01:07:19 -0500 (Sat, 15 Nov 2025) EllapsedTime: 290.3 seconds RetCode: 0 Status: OK CheckDir: LACE.Rcheck Warnings: 0