Package: LACE Version: 2.14.0 Command: /Library/Frameworks/R.framework/Resources/bin/R CMD INSTALL LACE StartedAt: 2025-11-03 15:28:54 -0500 (Mon, 03 Nov 2025) EndedAt: 2025-11-03 15:29:41 -0500 (Mon, 03 Nov 2025) EllapsedTime: 47.0 seconds RetCode: 0 Status: OK