Package: LACE Version: 2.14.0 Command: /Library/Frameworks/R.framework/Resources/bin/R CMD build --keep-empty-dirs --no-resave-data LACE StartedAt: 2025-11-03 17:32:38 -0500 (Mon, 03 Nov 2025) EndedAt: 2025-11-03 17:33:42 -0500 (Mon, 03 Nov 2025) EllapsedTime: 64.0 seconds RetCode: 0 Status: OK PackageFile: LACE_2.14.0.tar.gz PackageFileSize: 4.085 MiB