Package: LACE Version: 2.14.0 Command: rm -rf LACE.buildbin-libdir && mkdir LACE.buildbin-libdir && /Users/biocbuild/BBS/utils/build-universal.sh LACE_2.14.0.tar.gz /Library/Frameworks/R.framework/Resources/bin/R LACE.buildbin-libdir StartedAt: 2025-11-04 01:46:58 -0500 (Tue, 04 Nov 2025) EndedAt: 2025-11-04 01:47:51 -0500 (Tue, 04 Nov 2025) EllapsedTime: 53.1 seconds RetCode: 0 Status: OK PackageFile: LACE_2.14.0.tgz PackageFileSize: 3.044 MiB