Package: KnowSeq Version: 1.24.0 Command: /home/biocbuild/R/R/bin/R CMD build --keep-empty-dirs --no-resave-data KnowSeq StartedAt: 2025-11-11 02:44:45 -0000 (Tue, 11 Nov 2025) EndedAt: 2025-11-11 02:48:57 -0000 (Tue, 11 Nov 2025) EllapsedTime: 252.1 seconds RetCode: 0 Status: OK PackageFile: KnowSeq_1.24.0.tar.gz PackageFileSize: 7.952 MiB