Package: KnowSeq Version: 1.24.0 Command: /home/biocbuild/bbs-3.22-bioc/R/bin/R CMD INSTALL KnowSeq StartedAt: 2025-11-13 15:29:40 -0500 (Thu, 13 Nov 2025) EndedAt: 2025-11-13 15:30:11 -0500 (Thu, 13 Nov 2025) EllapsedTime: 30.5 seconds RetCode: 0 Status: OK