Package: KnowSeq Version: 1.24.0 Command: /home/biocbuild/bbs-3.22-bioc/R/bin/R CMD check --install=check:KnowSeq.install-out.txt --library=/home/biocbuild/bbs-3.22-bioc/R/site-library --timings KnowSeq_1.24.0.tar.gz StartedAt: 2025-11-14 01:00:50 -0500 (Fri, 14 Nov 2025) EndedAt: 2025-11-14 01:07:52 -0500 (Fri, 14 Nov 2025) EllapsedTime: 422.5 seconds RetCode: 0 Status: OK CheckDir: KnowSeq.Rcheck Warnings: 0