Package: KnowSeq Version: 1.24.0 Command: /home/biocbuild/bbs-3.22-bioc/R/bin/R CMD build --keep-empty-dirs --no-resave-data --md5 KnowSeq StartedAt: 2025-11-14 18:24:33 -0500 (Fri, 14 Nov 2025) EndedAt: 2025-11-14 18:27:21 -0500 (Fri, 14 Nov 2025) EllapsedTime: 168.3 seconds RetCode: 0 Status: OK PackageFile: KnowSeq_1.24.0.tar.gz PackageFileSize: 8.222 MiB