Package: KinSwingR Version: 1.28.0 Command: /home/biocbuild/R/R/bin/R CMD INSTALL KinSwingR StartedAt: 2025-11-13 21:08:02 -0000 (Thu, 13 Nov 2025) EndedAt: 2025-11-13 21:08:49 -0000 (Thu, 13 Nov 2025) EllapsedTime: 47.2 seconds RetCode: 0 Status: OK