Package: KinSwingR Version: 1.28.0 Command: /home/biocbuild/R/R/bin/R CMD build --keep-empty-dirs --no-resave-data KinSwingR StartedAt: 2025-11-14 02:48:13 -0000 (Fri, 14 Nov 2025) EndedAt: 2025-11-14 02:48:47 -0000 (Fri, 14 Nov 2025) EllapsedTime: 34.0 seconds RetCode: 0 Status: OK PackageFile: KinSwingR_1.28.0.tar.gz PackageFileSize: 631.3 KiB