Package: KinSwingR Version: 1.26.0 Command: /home/biocbuild/bbs-3.21-bioc/R/bin/R CMD INSTALL KinSwingR StartedAt: 2025-10-05 15:05:39 -0400 (Sun, 05 Oct 2025) EndedAt: 2025-10-05 15:05:48 -0400 (Sun, 05 Oct 2025) EllapsedTime: 8.7 seconds RetCode: 0 Status: OK