Package: KinSwingR Version: 1.26.0 Command: /home/biocbuild/bbs-3.21-bioc/R/bin/R CMD build --keep-empty-dirs --no-resave-data KinSwingR StartedAt: 2025-10-05 18:13:36 -0400 (Sun, 05 Oct 2025) EndedAt: 2025-10-05 18:14:02 -0400 (Sun, 05 Oct 2025) EllapsedTime: 26.0 seconds RetCode: 0 Status: OK PackageFile: KinSwingR_1.26.0.tar.gz PackageFileSize: 578.2 KiB