Package: KinSwingR Version: 1.26.0 Command: /Library/Frameworks/R.framework/Resources/bin/R CMD build --keep-empty-dirs --no-resave-data KinSwingR StartedAt: 2025-10-13 20:04:06 -0400 (Mon, 13 Oct 2025) EndedAt: 2025-10-13 20:05:14 -0400 (Mon, 13 Oct 2025) EllapsedTime: 67.4 seconds RetCode: 0 Status: OK PackageFile: KinSwingR_1.26.0.tar.gz PackageFileSize: 649.7 KiB