Package: KinSwingR Version: 1.26.0 Command: /Library/Frameworks/R.framework/Resources/bin/R CMD build --keep-empty-dirs --no-resave-data KinSwingR StartedAt: 2025-10-07 03:09:57 -0400 (Tue, 07 Oct 2025) EndedAt: 2025-10-07 03:10:35 -0400 (Tue, 07 Oct 2025) EllapsedTime: 37.8 seconds RetCode: 0 Status: OK PackageFile: KinSwingR_1.26.0.tar.gz PackageFileSize: 649.9 KiB