Package: KEGGlincs Version: 1.36.0 Command: /home/biocbuild/bbs-3.22-bioc/R/bin/R CMD INSTALL KEGGlincs StartedAt: 2025-11-17 18:10:27 -0500 (Mon, 17 Nov 2025) EndedAt: 2025-11-17 18:10:44 -0500 (Mon, 17 Nov 2025) EllapsedTime: 17.8 seconds RetCode: 0 Status: OK