Package: KEGGlincs Version: 1.36.0 Command: /home/biocbuild/bbs-3.22-bioc/R/bin/R CMD build --keep-empty-dirs --no-resave-data --md5 KEGGlincs StartedAt: 2025-11-17 21:42:46 -0500 (Mon, 17 Nov 2025) EndedAt: 2025-11-17 21:43:35 -0500 (Mon, 17 Nov 2025) EllapsedTime: 49.1 seconds RetCode: 0 Status: OK PackageFile: KEGGlincs_1.36.0.tar.gz PackageFileSize: 4.216 MiB