Package: KEGGgraph Version: 1.70.0 Command: /home/biocbuild/bbs-3.22-bioc/R/bin/R CMD INSTALL KEGGgraph StartedAt: 2025-11-11 15:19:10 -0500 (Tue, 11 Nov 2025) EndedAt: 2025-11-11 15:19:15 -0500 (Tue, 11 Nov 2025) EllapsedTime: 5.8 seconds RetCode: 0 Status: OK