Package: KEGGgraph Version: 1.70.0 Command: /home/biocbuild/bbs-3.22-bioc/R/bin/R CMD check --install=check:KEGGgraph.install-out.txt --library=/home/biocbuild/bbs-3.22-bioc/R/site-library --timings KEGGgraph_1.70.0.tar.gz StartedAt: 2025-11-15 01:00:37 -0500 (Sat, 15 Nov 2025) EndedAt: 2025-11-15 01:02:23 -0500 (Sat, 15 Nov 2025) EllapsedTime: 105.1 seconds RetCode: 0 Status: OK CheckDir: KEGGgraph.Rcheck Warnings: 0