Package: KEGGgraph Version: 1.70.0 Command: /Library/Frameworks/R.framework/Resources/bin/R CMD INSTALL KEGGgraph StartedAt: 2025-11-03 15:32:09 -0500 (Mon, 03 Nov 2025) EndedAt: 2025-11-03 15:32:20 -0500 (Mon, 03 Nov 2025) EllapsedTime: 10.8 seconds RetCode: 0 Status: OK