Package: KEGGgraph Version: 1.68.0 Command: /home/biocbuild/R/R/bin/R CMD INSTALL KEGGgraph StartedAt: 2025-10-09 20:27:30 -0000 (Thu, 09 Oct 2025) EndedAt: 2025-10-09 20:27:40 -0000 (Thu, 09 Oct 2025) EllapsedTime: 9.3 seconds RetCode: 0 Status: OK