Package: KEGGgraph Version: 1.68.0 Command: /Library/Frameworks/R.framework/Resources/bin/R CMD INSTALL KEGGgraph StartedAt: 2025-04-21 15:08:33 -0400 (Mon, 21 Apr 2025) EndedAt: 2025-04-21 15:08:36 -0400 (Mon, 21 Apr 2025) EllapsedTime: 3.6 seconds RetCode: 0 Status: OK