Back to Multiple platform build/check report for BioC 3.22:   simplified   long
ABCDEFGHIJ[K]LMNOPQRSTUVWXYZ

This page was generated on 2025-11-12 11:57 -0500 (Wed, 12 Nov 2025).

HostnameOSArch (*)R versionInstalled pkgs
nebbiolo2Linux (Ubuntu 24.04.3 LTS)x86_644.5.1 Patched (2025-08-23 r88802) -- "Great Square Root" 4902
taishanLinux (openEuler 24.03 LTS)aarch644.5.0 (2025-04-11) -- "How About a Twenty-Six" 4668
Click on any hostname to see more info about the system (e.g. compilers)      (*) as reported by 'uname -p', except on Windows and Mac OS X

All results for package KEGGgraph


To the developers/maintainers of the KEGGgraph package:
- Allow up to 24 hours (and sometimes 48 hours) for your latest push to git@git.bioconductor.org:packages/KEGGgraph.git to reflect on this report. See Troubleshooting Build Report for more information.
- Use the following Renviron settings to reproduce errors and warnings.
- If 'R CMD check' started to fail recently on the Linux builder(s) over a missing dependency, add the missing dependency to 'Suggests:' in your DESCRIPTION file. See Renviron.bioc for more information.

raw results

Package 1114/2361HostnameOS / ArchINSTALLBUILDCHECKBUILD BIN
KEGGgraph 1.70.0  (landing page)
Jitao David Zhang
Snapshot Date: 2025-11-11 13:45 -0500 (Tue, 11 Nov 2025)
git_url: https://git.bioconductor.org/packages/KEGGgraph
git_branch: RELEASE_3_22
git_last_commit: f90447d
git_last_commit_date: 2025-10-29 10:02:08 -0500 (Wed, 29 Oct 2025)
nebbiolo2Linux (Ubuntu 24.04.3 LTS) / x86_64  OK    OK    OK  UNNEEDED, same version is already published
taishanLinux (openEuler 24.03 LTS) / aarch64  OK    OK    OK  



Results for Bioconductor software packages that depend directly on package KEGGgraph

QUICK STATSOS / ArchINSTALLBUILDCHECKBUILD BIN
nebbiolo2Linux (Ubuntu 24.04.3 LTS) / x86_64
0011
0011
0038
taishanLinux (openEuler 24.03 LTS) / aarch64
0011
0011
0137
Package 1/11HostnameOS / ArchINSTALLBUILDCHECKBUILD BIN
clipper 1.50.0  (landing page)
Paolo Martini
git_last_commit: a4ee17e
git_last_commit_date: 2025-10-29 10:13:24 -0500
nebbiolo2Linux (Ubuntu 24.04.3 LTS) / x86_64  OK    OK    OK  UNNEEDED, same version is already published
taishanLinux (openEuler 24.03 LTS) / aarch64  OK    OK    OK  
Package 2/11HostnameOS / ArchINSTALLBUILDCHECKBUILD BIN
DEGraph 1.62.0  (landing page)
Laurent Jacob
git_last_commit: 1f09c9d
git_last_commit_date: 2025-10-29 10:06:12 -0500
nebbiolo2Linux (Ubuntu 24.04.3 LTS) / x86_64  OK    OK    OK  UNNEEDED, same version is already published
taishanLinux (openEuler 24.03 LTS) / aarch64  OK    OK    OK  
Package 3/11HostnameOS / ArchINSTALLBUILDCHECKBUILD BIN
EnrichmentBrowser 2.40.0  (landing page)
Ludwig Geistlinger
git_last_commit: 2118f0c
git_last_commit_date: 2025-10-29 10:21:30 -0500
nebbiolo2Linux (Ubuntu 24.04.3 LTS) / x86_64  OK    OK    OK  UNNEEDED, same version is already published
taishanLinux (openEuler 24.03 LTS) / aarch64  OK    OK    ERROR  
Package 4/11HostnameOS / ArchINSTALLBUILDCHECKBUILD BIN
KEGGlincs 1.36.0  (landing page)
Shana White , Mario Medvedovic
git_last_commit: d01fd07
git_last_commit_date: 2025-10-29 10:34:49 -0500
nebbiolo2Linux (Ubuntu 24.04.3 LTS) / x86_64  OK    OK    OK  UNNEEDED, same version is already published
taishanLinux (openEuler 24.03 LTS) / aarch64  OK    OK    OK  
Package 5/11HostnameOS / ArchINSTALLBUILDCHECKBUILD BIN
lpNet 2.42.0  (landing page)
Lars Kaderali
git_last_commit: a938ca3
git_last_commit_date: 2025-10-29 10:13:37 -0500
nebbiolo2Linux (Ubuntu 24.04.3 LTS) / x86_64  OK    OK    WARNINGS  UNNEEDED, same version is already published
taishanLinux (openEuler 24.03 LTS) / aarch64  OK    OK    WARNINGS  
Package 6/11HostnameOS / ArchINSTALLBUILDCHECKBUILD BIN
MetaboSignal 1.40.0  (landing page)
Andrea Rodriguez-Martinez
git_last_commit: 4db76ce
git_last_commit_date: 2025-10-29 10:34:11 -0500
nebbiolo2Linux (Ubuntu 24.04.3 LTS) / x86_64  OK    OK    OK  UNNEEDED, same version is already published
taishanLinux (openEuler 24.03 LTS) / aarch64  OK    OK    OK  
Package 7/11HostnameOS / ArchINSTALLBUILDCHECKBUILD BIN
MWASTools 1.34.0  (landing page)
Andrea Rodriguez-Martinez , Rafael Ayala
git_last_commit: 58721f5
git_last_commit_date: 2025-10-29 10:35:43 -0500
nebbiolo2Linux (Ubuntu 24.04.3 LTS) / x86_64  OK    OK    OK  UNNEEDED, same version is already published
taishanLinux (openEuler 24.03 LTS) / aarch64  OK    OK    OK  
Package 8/11HostnameOS / ArchINSTALLBUILDCHECKBUILD BIN
NCIgraph 1.58.0  (landing page)
Laurent Jacob
git_last_commit: eb4dd86
git_last_commit_date: 2025-10-29 10:07:17 -0500
nebbiolo2Linux (Ubuntu 24.04.3 LTS) / x86_64  OK    OK    OK  UNNEEDED, same version is already published
taishanLinux (openEuler 24.03 LTS) / aarch64  OK    OK    OK  
Package 9/11HostnameOS / ArchINSTALLBUILDCHECKBUILD BIN
pathview 1.50.0  (landing page)
Weijun Luo
git_last_commit: 5efd147
git_last_commit_date: 2025-10-29 10:14:01 -0500
nebbiolo2Linux (Ubuntu 24.04.3 LTS) / x86_64  OK    OK    WARNINGS  UNNEEDED, same version is already published
taishanLinux (openEuler 24.03 LTS) / aarch64  OK    OK    WARNINGS  
Package 10/11HostnameOS / ArchINSTALLBUILDCHECKBUILD BIN
ROntoTools 2.38.0  (landing page)
Sorin Draghici
git_last_commit: 5e9ce05
git_last_commit_date: 2025-10-29 10:14:20 -0500
nebbiolo2Linux (Ubuntu 24.04.3 LTS) / x86_64  OK    OK    WARNINGS  UNNEEDED, same version is already published
taishanLinux (openEuler 24.03 LTS) / aarch64  OK    OK    WARNINGS  
Package 11/11HostnameOS / ArchINSTALLBUILDCHECKBUILD BIN
SPIA 2.62.0  (landing page)
Adi Laurentiu Tarca
git_last_commit: eaac9a0
git_last_commit_date: 2025-10-29 10:02:17 -0500
nebbiolo2Linux (Ubuntu 24.04.3 LTS) / x86_64  OK    OK    OK  UNNEEDED, same version is already published
taishanLinux (openEuler 24.03 LTS) / aarch64  OK    OK    OK