Package: KEGGREST Version: 1.50.0 Command: /home/biocbuild/bbs-3.22-bioc/R/bin/R CMD build --keep-empty-dirs --no-resave-data --md5 KEGGREST StartedAt: 2025-11-11 18:26:21 -0500 (Tue, 11 Nov 2025) EndedAt: 2025-11-11 18:26:54 -0500 (Tue, 11 Nov 2025) EllapsedTime: 33.0 seconds RetCode: 0 Status: OK PackageFile: KEGGREST_1.50.0.tar.gz PackageFileSize: 234.1 KiB