Package: KEGGREST Version: 1.50.0 Command: /Library/Frameworks/R.framework/Resources/bin/R CMD INSTALL KEGGREST StartedAt: 2025-11-03 15:23:09 -0500 (Mon, 03 Nov 2025) EndedAt: 2025-11-03 15:23:23 -0500 (Mon, 03 Nov 2025) EllapsedTime: 14.0 seconds RetCode: 0 Status: OK