Package: KEGGREST Version: 1.50.0 Command: /Library/Frameworks/R.framework/Resources/bin/R CMD build --keep-empty-dirs --no-resave-data KEGGREST StartedAt: 2025-11-03 17:32:06 -0500 (Mon, 03 Nov 2025) EndedAt: 2025-11-03 17:32:45 -0500 (Mon, 03 Nov 2025) EllapsedTime: 38.9 seconds RetCode: 0 Status: OK PackageFile: KEGGREST_1.50.0.tar.gz PackageFileSize: 233.5 KiB