Package: KEGGREST Version: 1.48.1 Command: /home/biocbuild/R/R/bin/R CMD INSTALL KEGGREST StartedAt: 2025-10-13 20:38:38 -0000 (Mon, 13 Oct 2025) EndedAt: 2025-10-13 20:38:51 -0000 (Mon, 13 Oct 2025) EllapsedTime: 13.4 seconds RetCode: 0 Status: OK