Package: KEGGREST Version: 1.48.1 Command: /home/biocbuild/R/R/bin/R CMD build --keep-empty-dirs --no-resave-data KEGGREST StartedAt: 2025-10-14 01:58:01 -0000 (Tue, 14 Oct 2025) EndedAt: 2025-10-14 01:58:39 -0000 (Tue, 14 Oct 2025) EllapsedTime: 38.0 seconds RetCode: 0 Status: OK PackageFile: KEGGREST_1.48.1.tar.gz PackageFileSize: 259.2 KiB